BEGIN:VCALENDAR
VERSION:2.0
PRODID:-//Arjan Veen - ECPv5.13.0//NONSGML v1.0//EN
CALSCALE:GREGORIAN
METHOD:PUBLISH
X-WR-CALNAME:Arjan Veen
X-ORIGINAL-URL:https://www.arjanveen.nl
X-WR-CALDESC:Evenementen voor Arjan Veen
REFRESH-INTERVAL;VALUE=DURATION:PT1H
X-Robots-Tag:noindex
X-PUBLISHED-TTL:PT1H
BEGIN:VTIMEZONE
TZID:UTC
BEGIN:STANDARD
TZOFFSETFROM:+0000
TZOFFSETTO:+0000
TZNAME:UTC
DTSTART:20200101T000000
END:STANDARD
END:VTIMEZONE
BEGIN:VEVENT
DTSTART;TZID=UTC:20210704T100000
DTEND;TZID=UTC:20210704T110000
DTSTAMP:20260420T051807
CREATED:20210626T115729Z
LAST-MODIFIED:20210626T120342Z
UID:205-1625392800-1625396400@www.arjanveen.nl
SUMMARY:Anglicaanse dienst Maartenskerk Doorn
DESCRIPTION:
URL:https://www.arjanveen.nl/concert/anglicaanse-dienst/
LOCATION:Maartenskerk Doorn\, Kerkplein\, Doorn\, 3941 HV\, Nederland
END:VEVENT
BEGIN:VEVENT
DTSTART;TZID=UTC:20201128T201500
DTEND;TZID=UTC:20201128T213000
DTSTAMP:20260420T051807
CREATED:20201125T155312Z
LAST-MODIFIED:20201128T112515Z
UID:140-1606594500-1606599000@www.arjanveen.nl
SUMMARY:Wijk bij Duurstede: Orgelconcert rondom Louis Vierne
DESCRIPTION:Live en gestreamd vanuit de Grote Kerk te Wijk bij Duurstede. \nPim Schipper en Arjan Veen brengen onder de titel Van Byrd tot Vierne een gevarieerd programma op zowel het Kiespenning- als het Harrison & Harrison-orgel. Inmiddels zijn de 30 plaatsen (het maximum aantal bezoekers) allemaal gereserveerd. Mocht u niet gereserveerd hebben\, kom dan niet meer naar de kerk. U kunt wel het concert live meemaken via de livestream. \nHet programmaboekje is hier te downloaden
URL:https://www.arjanveen.nl/concert/wijk-bij-duurstede-orgelconcert-rondom-louis-vierne/
LOCATION:Grote Kerk Wijk bij Duurstede\, Markt 22\, Wijk bij Duurstede\, 3961 BC\, Nederland
END:VEVENT
END:VCALENDAR