BEGIN:VCALENDAR
VERSION:2.0
PRODID:-//Arjan Veen - ECPv5.13.0//NONSGML v1.0//EN
CALSCALE:GREGORIAN
METHOD:PUBLISH
X-WR-CALNAME:Arjan Veen
X-ORIGINAL-URL:https://www.arjanveen.nl
X-WR-CALDESC:Evenementen voor Arjan Veen
REFRESH-INTERVAL;VALUE=DURATION:PT1H
X-Robots-Tag:noindex
X-PUBLISHED-TTL:PT1H
BEGIN:VTIMEZONE
TZID:UTC
BEGIN:STANDARD
TZOFFSETFROM:+0000
TZOFFSETTO:+0000
TZNAME:UTC
DTSTART:20220101T000000
END:STANDARD
END:VTIMEZONE
BEGIN:VEVENT
DTSTART;TZID=UTC:20220818T200000
DTEND;TZID=UTC:20220818T211500
DTSTAMP:20260422T172400
CREATED:20220609T120334Z
LAST-MODIFIED:20220609T120334Z
UID:348-1660852800-1660857300@www.arjanveen.nl
SUMMARY:Orgelconcert
DESCRIPTION:Orgelconcert in de Jacobikerk van Utrecht. Programmering rondom het thema “Natuur in muziek”
URL:https://www.arjanveen.nl/concert/orgelconcert-2/
LOCATION:Jacobikerk Utrecht\, St. Jacobsstraat 171\, Utrecht\, 3511 BP
END:VEVENT
BEGIN:VEVENT
DTSTART;TZID=UTC:20260412T170000
DTEND;TZID=UTC:20260412T180000
DTSTAMP:20260422T172400
CREATED:20260404T192801Z
LAST-MODIFIED:20260404T192801Z
UID:701-1776013200-1776016800@www.arjanveen.nl
SUMMARY:Evensong
DESCRIPTION:Evensong Jacobikerk Utrecht \nHome
URL:https://www.arjanveen.nl/concert/evensong-3/
LOCATION:Jacobikerk Utrecht\, St. Jacobsstraat 171\, Utrecht\, 3511 BP
END:VEVENT
END:VCALENDAR