BEGIN:VCALENDAR
VERSION:2.0
PRODID:-//Arjan Veen - ECPv5.13.0//NONSGML v1.0//EN
CALSCALE:GREGORIAN
METHOD:PUBLISH
X-WR-CALNAME:Arjan Veen
X-ORIGINAL-URL:https://www.arjanveen.nl
X-WR-CALDESC:Evenementen voor Arjan Veen
REFRESH-INTERVAL;VALUE=DURATION:PT1H
X-Robots-Tag:noindex
X-PUBLISHED-TTL:PT1H
BEGIN:VTIMEZONE
TZID:UTC
BEGIN:STANDARD
TZOFFSETFROM:+0000
TZOFFSETTO:+0000
TZNAME:UTC
DTSTART:20230101T000000
END:STANDARD
END:VTIMEZONE
BEGIN:VEVENT
DTSTART;TZID=UTC:20231105T153000
DTEND;TZID=UTC:20231105T170000
DTSTAMP:20260422T195416
CREATED:20231006T163647Z
LAST-MODIFIED:20231006T163647Z
UID:454-1699198200-1699203600@www.arjanveen.nl
SUMMARY:KoorConcert
DESCRIPTION:Kamerkoor La Rosa Olv Hans Noyens\, Orgel Arjan Veen Requiem Durufle\, de Klerk e.a.
URL:https://www.arjanveen.nl/concert/koorconcert-9/
LOCATION:Wilhelminakerk Utrecht\, Hobbemastraat 35\, Utrecht\, 3583CW
END:VEVENT
END:VCALENDAR